BEGIN:VCALENDAR
VERSION:2.0
PRODID:-//Інфармацыйна-бібліятэчны аддзел Гродзенскага раённага культурна-інфармацыйнага цэнтра - ECPv5.9.0//NONSGML v1.0//EN
CALSCALE:GREGORIAN
METHOD:PUBLISH
X-WR-CALNAME:Інфармацыйна-бібліятэчны аддзел Гродзенскага раённага культурна-інфармацыйнага цэнтра
X-ORIGINAL-URL:https://rcbs.by
X-WR-CALDESC:Events for Інфармацыйна-бібліятэчны аддзел Гродзенскага раённага культурна-інфармацыйнага цэнтра
BEGIN:VTIMEZONE
TZID:Europe/Moscow
BEGIN:STANDARD
TZOFFSETFROM:+0300
TZOFFSETTO:+0300
TZNAME:MSK
DTSTART:20210101T000000
END:STANDARD
END:VTIMEZONE
BEGIN:VEVENT
DTSTART;VALUE=DATE:20210201
DTEND;VALUE=DATE:20210301
DTSTAMP:20260421T081957
CREATED:20210129T075542Z
LAST-MODIFIED:20210129T075542Z
UID:17656-1612137600-1614556799@rcbs.by
SUMMARY:Індурская сельская бібліятэка правядзе выставу\, прысвечаную Івану Мележу “Хроніка людскога жыцця”.
DESCRIPTION:
URL:https://rcbs.by/event/%d1%96%d0%bd%d0%b4%d1%83%d1%80%d1%81%d0%ba%d0%b0%d1%8f-%d1%81%d0%b5%d0%bb%d1%8c%d1%81%d0%ba%d0%b0%d1%8f-%d0%b1%d1%96%d0%b1%d0%bb%d1%96%d1%8f%d1%82%d1%8d%d0%ba%d0%b0-%d0%bf%d1%80%d0%b0%d0%b2%d1%8f-27/
LOCATION:бібліятэка
ATTACH;FMTTYPE=image/jpeg:https://rcbs.by/wp-content/uploads/2021/01/4960.jpg
END:VEVENT
END:VCALENDAR