BEGIN:VCALENDAR
VERSION:2.0
PRODID:-//Інфармацыйна-бібліятэчны аддзел Гродзенскага раённага культурна-інфармацыйнага цэнтра - ECPv5.9.0//NONSGML v1.0//EN
CALSCALE:GREGORIAN
METHOD:PUBLISH
X-WR-CALNAME:Інфармацыйна-бібліятэчны аддзел Гродзенскага раённага культурна-інфармацыйнага цэнтра
X-ORIGINAL-URL:https://rcbs.by
X-WR-CALDESC:Events for Інфармацыйна-бібліятэчны аддзел Гродзенскага раённага культурна-інфармацыйнага цэнтра
BEGIN:VTIMEZONE
TZID:Europe/Minsk
BEGIN:STANDARD
TZOFFSETFROM:+0300
TZOFFSETTO:+0300
TZNAME:+03
DTSTART:20230101T000000
END:STANDARD
END:VTIMEZONE
BEGIN:VEVENT
DTSTART;VALUE=DATE:20230201
DTEND;VALUE=DATE:20230301
DTSTAMP:20260423T112141
CREATED:20230126T062956Z
LAST-MODIFIED:20230126T062956Z
UID:46025-1675209600-1677628799@rcbs.by
SUMMARY:Індурская сельская бібліятэка арганізуе "Сьынны класік беларускай літаратуры" - тэматычная паліца да 215-годдзя з дня нараджэння В.Дуніна-Марцінкевіча
DESCRIPTION:
URL:https://rcbs.by/event/%d1%96%d0%bd%d0%b4%d1%83%d1%80%d1%81%d0%ba%d0%b0%d1%8f-%d1%81%d0%b5%d0%bb%d1%8c%d1%81%d0%ba%d0%b0%d1%8f-%d0%b1%d1%96%d0%b1%d0%bb%d1%96%d1%8f%d1%82%d1%8d%d0%ba%d0%b0-%d0%b0%d1%80%d0%b3%d0%b0%d0%bd-30/
LOCATION:бібліятэка
END:VEVENT
END:VCALENDAR