BEGIN:VCALENDAR
VERSION:2.0
PRODID:-//Інфармацыйна-бібліятэчны аддзел Гродзенскага раённага культурна-інфармацыйнага цэнтра - ECPv5.9.0//NONSGML v1.0//EN
CALSCALE:GREGORIAN
METHOD:PUBLISH
X-WR-CALNAME:Інфармацыйна-бібліятэчны аддзел Гродзенскага раённага культурна-інфармацыйнага цэнтра
X-ORIGINAL-URL:https://rcbs.by
X-WR-CALDESC:Events for Інфармацыйна-бібліятэчны аддзел Гродзенскага раённага культурна-інфармацыйнага цэнтра
BEGIN:VTIMEZONE
TZID:Europe/Minsk
BEGIN:STANDARD
TZOFFSETFROM:+0300
TZOFFSETTO:+0300
TZNAME:+03
DTSTART:20230101T000000
END:STANDARD
END:VTIMEZONE
BEGIN:VEVENT
DTSTART;TZID=Europe/Minsk:20230322T160000
DTEND;TZID=Europe/Minsk:20230322T160000
DTSTAMP:20260423T172536
CREATED:20230301T090225Z
LAST-MODIFIED:20230301T090225Z
UID:47584-1679500800-1679500800@rcbs.by
SUMMARY:Свіслацкая сельская бібліятэка арганізуе вечар памяці да 80-годдзя трагэдыі ў Хатыні "Забыть такое невозможно"
DESCRIPTION:
URL:https://rcbs.by/event/%d1%81%d0%b2%d1%96%d1%81%d0%bb%d0%b0%d1%86%d0%ba%d0%b0%d1%8f-%d1%81%d0%b5%d0%bb%d1%8c%d1%81%d0%ba%d0%b0%d1%8f-%d0%b1%d1%96%d0%b1%d0%bb%d1%96%d1%8f%d1%82%d1%8d%d0%ba%d0%b0-%d0%b0%d1%80%d0%b3%d0%b0-44/
LOCATION:бібліятэка
END:VEVENT
END:VCALENDAR