BEGIN:VCALENDAR
VERSION:2.0
PRODID:-//Інфармацыйна-бібліятэчны аддзел Гродзенскага раённага культурна-інфармацыйнага цэнтра - ECPv5.9.0//NONSGML v1.0//EN
CALSCALE:GREGORIAN
METHOD:PUBLISH
X-WR-CALNAME:Інфармацыйна-бібліятэчны аддзел Гродзенскага раённага культурна-інфармацыйнага цэнтра
X-ORIGINAL-URL:https://rcbs.by
X-WR-CALDESC:Events for Інфармацыйна-бібліятэчны аддзел Гродзенскага раённага культурна-інфармацыйнага цэнтра
BEGIN:VTIMEZONE
TZID:Europe/Minsk
BEGIN:STANDARD
TZOFFSETFROM:+0300
TZOFFSETTO:+0300
TZNAME:+03
DTSTART:20220101T000000
END:STANDARD
END:VTIMEZONE
BEGIN:VEVENT
DTSTART;VALUE=DATE:20220122
DTEND;VALUE=DATE:20220123
DTSTAMP:20260423T153350
CREATED:20211231T060505Z
LAST-MODIFIED:20211231T060505Z
UID:35952-1642809600-1642895999@rcbs.by
SUMMARY:Сапоцкінская ГПБ – цэнтр турызму і краязнаўства правядзе экалагічнае асарці “Зимней\, праздничной порой” у рамках пасяджэння дзіцячага клуба “Пачытаем-пагуляем”.
DESCRIPTION:
URL:https://rcbs.by/event/%d1%81%d0%b0%d0%bf%d0%be%d1%86%d0%ba%d1%96%d0%bd%d1%81%d0%ba%d0%b0%d1%8f-%d0%b3%d0%bf%d0%b1-%d1%86%d1%8d%d0%bd%d1%82%d1%80-%d1%82%d1%83%d1%80%d1%8b%d0%b7%d0%bc%d1%83-%d1%96-%d0%ba%d1%80-38/
LOCATION:бібліятэка
END:VEVENT
END:VCALENDAR