BEGIN:VCALENDAR
VERSION:2.0
PRODID:-//Інфармацыйна-бібліятэчны аддзел Гродзенскага раённага культурна-інфармацыйнага цэнтра - ECPv5.9.0//NONSGML v1.0//EN
CALSCALE:GREGORIAN
METHOD:PUBLISH
X-WR-CALNAME:Інфармацыйна-бібліятэчны аддзел Гродзенскага раённага культурна-інфармацыйнага цэнтра
X-ORIGINAL-URL:https://rcbs.by
X-WR-CALDESC:Events for Інфармацыйна-бібліятэчны аддзел Гродзенскага раённага культурна-інфармацыйнага цэнтра
BEGIN:VTIMEZONE
TZID:Europe/Moscow
BEGIN:STANDARD
TZOFFSETFROM:+0300
TZOFFSETTO:+0300
TZNAME:MSK
DTSTART:20210101T000000
END:STANDARD
END:VTIMEZONE
BEGIN:VEVENT
DTSTART;VALUE=DATE:20210110
DTEND;VALUE=DATE:20210111
DTSTAMP:20260423T162854
CREATED:20201230T121126Z
LAST-MODIFIED:20201230T121556Z
UID:16460-1610236800-1610323199@rcbs.by
SUMMARY:Сапоцкінская ГПБ – цэнтр турызму і краязнаўства правядзе пасяджэнне клуба дасугавых зносін ”Натхненне” пад назвай ”И радостная весть звучала в небесах”.
DESCRIPTION:
URL:https://rcbs.by/event/%d1%81%d0%b0%d0%bf%d0%be%d1%86%d0%ba%d1%96%d0%bd%d1%81%d0%ba%d0%b0%d1%8f-%d0%b3%d0%bf%d0%b1-%d1%86%d1%8d%d0%bd%d1%82%d1%80-%d1%82%d1%83%d1%80%d1%8b%d0%b7%d0%bc%d1%83-%d1%96-%d0%ba%d1%80-12/
LOCATION:бібліятэка
END:VEVENT
END:VCALENDAR