BEGIN:VCALENDAR
VERSION:2.0
PRODID:-//Інфармацыйна-бібліятэчны аддзел Гродзенскага раённага культурна-інфармацыйнага цэнтра - ECPv5.9.0//NONSGML v1.0//EN
CALSCALE:GREGORIAN
METHOD:PUBLISH
X-WR-CALNAME:Інфармацыйна-бібліятэчны аддзел Гродзенскага раённага культурна-інфармацыйнага цэнтра
X-ORIGINAL-URL:https://rcbs.by
X-WR-CALDESC:Events for Інфармацыйна-бібліятэчны аддзел Гродзенскага раённага культурна-інфармацыйнага цэнтра
BEGIN:VTIMEZONE
TZID:Europe/Minsk
BEGIN:STANDARD
TZOFFSETFROM:+0300
TZOFFSETTO:+0300
TZNAME:+03
DTSTART:20220101T000000
END:STANDARD
END:VTIMEZONE
BEGIN:VEVENT
DTSTART;VALUE=DATE:20220219
DTEND;VALUE=DATE:20220220
DTSTAMP:20260423T200537
CREATED:20220128T093352Z
LAST-MODIFIED:20220128T093352Z
UID:36577-1645228800-1645315199@rcbs.by
SUMMARY:Сапоцкінская ГПБ правядзе гадзіну ўражанняў да Дня роднай мовы “Які ж гэта цуд – слова\, мова мая” у рамках пасяджэння дзіцячага клуба “Пачытаем-пагуляем”.
DESCRIPTION:
URL:https://rcbs.by/event/%d1%81%d0%b0%d0%bf%d0%be%d1%86%d0%ba%d1%96%d0%bd%d1%81%d0%ba%d0%b0%d1%8f-%d0%b3%d0%bf%d0%b1-%d0%bf%d1%80%d0%b0%d0%b2%d1%8f%d0%b4%d0%b7%d0%b5-%d0%b3%d0%b0%d0%b4%d0%b7%d1%96%d0%bd%d1%83-%d1%9e%d1%80/
LOCATION:бібліятэка
ATTACH;FMTTYPE=image/jpeg:https://rcbs.by/wp-content/uploads/2021/02/Без-названия.jpg
END:VEVENT
END:VCALENDAR