BEGIN:VCALENDAR
VERSION:2.0
PRODID:-//Інфармацыйна-бібліятэчны аддзел Гродзенскага раённага культурна-інфармацыйнага цэнтра - ECPv5.9.0//NONSGML v1.0//EN
CALSCALE:GREGORIAN
METHOD:PUBLISH
X-WR-CALNAME:Інфармацыйна-бібліятэчны аддзел Гродзенскага раённага культурна-інфармацыйнага цэнтра
X-ORIGINAL-URL:https://rcbs.by
X-WR-CALDESC:Events for Інфармацыйна-бібліятэчны аддзел Гродзенскага раённага культурна-інфармацыйнага цэнтра
BEGIN:VTIMEZONE
TZID:Europe/Minsk
BEGIN:STANDARD
TZOFFSETFROM:+0300
TZOFFSETTO:+0300
TZNAME:+03
DTSTART:20220101T000000
END:STANDARD
END:VTIMEZONE
BEGIN:VEVENT
DTSTART;VALUE=DATE:20220217
DTEND;VALUE=DATE:20220218
DTSTAMP:20260423T185302
CREATED:20220128T114839Z
LAST-MODIFIED:20220128T114839Z
UID:36634-1645056000-1645142399@rcbs.by
SUMMARY:Парэцкая сельская бібліятэка правядзе тэматычны прагляд літаратуры “Путешествие по книгам Гарина - Михайловского” да 170-годдзя з дня нараджэння М.Р. Гарына-Міхайлоўскага.
DESCRIPTION:
URL:https://rcbs.by/event/%d0%bf%d0%b0%d1%80%d1%8d%d1%86%d0%ba%d0%b0%d1%8f-%d1%81%d0%b5%d0%bb%d1%8c%d1%81%d0%ba%d0%b0%d1%8f-%d0%b1%d1%96%d0%b1%d0%bb%d1%96%d1%8f%d1%82%d1%8d%d0%ba%d0%b0-%d0%bf%d1%80%d0%b0%d0%b2%d1%8f%d0%b4-5/
LOCATION:бібліятэка
ATTACH;FMTTYPE=image/jpeg:https://rcbs.by/wp-content/uploads/2022/01/Мікалай-Гарын-Міхайлоўскі.jpg
END:VEVENT
END:VCALENDAR