BEGIN:VCALENDAR
VERSION:2.0
PRODID:-//Інфармацыйна-бібліятэчны аддзел Гродзенскага раённага культурна-інфармацыйнага цэнтра - ECPv5.9.0//NONSGML v1.0//EN
CALSCALE:GREGORIAN
METHOD:PUBLISH
X-WR-CALNAME:Інфармацыйна-бібліятэчны аддзел Гродзенскага раённага культурна-інфармацыйнага цэнтра
X-ORIGINAL-URL:https://rcbs.by
X-WR-CALDESC:Events for Інфармацыйна-бібліятэчны аддзел Гродзенскага раённага культурна-інфармацыйнага цэнтра
BEGIN:VTIMEZONE
TZID:Europe/Moscow
BEGIN:STANDARD
TZOFFSETFROM:+0300
TZOFFSETTO:+0300
TZNAME:MSK
DTSTART:20210101T000000
END:STANDARD
END:VTIMEZONE
BEGIN:VEVENT
DTSTART;VALUE=DATE:20210127
DTEND;VALUE=DATE:20210201
DTSTAMP:20260421T042426
CREATED:20201231T081241Z
LAST-MODIFIED:20201231T081241Z
UID:16538-1611705600-1612137599@rcbs.by
SUMMARY:Луцкаўлянская сельская бібліятэка інфармацыйна-экалагічнага цэнтра правядзе кніжную выставу да 100-годдзя дня нараджэння І.Шамякіна “Жыццё пісьменніка - жыццё народа”
DESCRIPTION:
URL:https://rcbs.by/event/%d0%bb%d1%83%d1%86%d0%ba%d0%b0%d1%9e%d0%bb%d1%8f%d0%bd%d1%81%d0%ba%d0%b0%d1%8f-%d1%81%d0%b5%d0%bb%d1%8c%d1%81%d0%ba%d0%b0%d1%8f-%d0%b1%d1%96%d0%b1%d0%bb%d1%96%d1%8f%d1%82%d1%8d%d0%ba%d0%b0-%d1%96-16/
LOCATION:бібліятэка
ATTACH;FMTTYPE=image/jpeg:https://rcbs.by/wp-content/uploads/2020/12/000027_30F46A882718009843257F480022BD45_724352.jpg
END:VEVENT
END:VCALENDAR