BEGIN:VCALENDAR
VERSION:2.0
PRODID:-//Інфармацыйна-бібліятэчны аддзел Гродзенскага раённага культурна-інфармацыйнага цэнтра - ECPv5.9.0//NONSGML v1.0//EN
CALSCALE:GREGORIAN
METHOD:PUBLISH
X-WR-CALNAME:Інфармацыйна-бібліятэчны аддзел Гродзенскага раённага культурна-інфармацыйнага цэнтра
X-ORIGINAL-URL:https://rcbs.by
X-WR-CALDESC:Events for Інфармацыйна-бібліятэчны аддзел Гродзенскага раённага культурна-інфармацыйнага цэнтра
BEGIN:VTIMEZONE
TZID:Europe/Minsk
BEGIN:STANDARD
TZOFFSETFROM:+0300
TZOFFSETTO:+0300
TZNAME:+03
DTSTART:20220101T000000
END:STANDARD
END:VTIMEZONE
BEGIN:VEVENT
DTSTART;VALUE=DATE:20220201
DTEND;VALUE=DATE:20220202
DTSTAMP:20260423T032642
CREATED:20220128T064000Z
LAST-MODIFIED:20220128T064030Z
UID:36520-1643673600-1643759999@rcbs.by
SUMMARY:Луцкаўлянская сельская бібліятэка арганізуе кніжна-ілюстрацыйную выставу “И в памяти\, и в книге – навсегда”.
DESCRIPTION:
URL:https://rcbs.by/event/%d0%bb%d1%83%d1%86%d0%ba%d0%b0%d1%9e%d0%bb%d1%8f%d0%bd%d1%81%d0%ba%d0%b0%d1%8f-%d1%81%d0%b5%d0%bb%d1%8c%d1%81%d0%ba%d0%b0%d1%8f-%d0%b1%d1%96%d0%b1%d0%bb%d1%96%d1%8f%d1%82%d1%8d%d0%ba%d0%b0-%d0%bf-10/
LOCATION:бібліятэка
ATTACH;FMTTYPE=image/jpeg:https://rcbs.by/wp-content/uploads/2022/01/І-ў-памяці-і-ў-кнізе-назаўжды.jpg
END:VEVENT
END:VCALENDAR