BEGIN:VCALENDAR
VERSION:2.0
PRODID:-//Інфармацыйна-бібліятэчны аддзел Гродзенскага раённага культурна-інфармацыйнага цэнтра - ECPv5.9.0//NONSGML v1.0//EN
CALSCALE:GREGORIAN
METHOD:PUBLISH
X-WR-CALNAME:Інфармацыйна-бібліятэчны аддзел Гродзенскага раённага культурна-інфармацыйнага цэнтра
X-ORIGINAL-URL:https://rcbs.by
X-WR-CALDESC:Events for Інфармацыйна-бібліятэчны аддзел Гродзенскага раённага культурна-інфармацыйнага цэнтра
BEGIN:VTIMEZONE
TZID:Europe/Minsk
BEGIN:STANDARD
TZOFFSETFROM:+0300
TZOFFSETTO:+0300
TZNAME:+03
DTSTART:20230101T000000
END:STANDARD
END:VTIMEZONE
BEGIN:VEVENT
DTSTART;TZID=Europe/Minsk:20230328T160000
DTEND;TZID=Europe/Minsk:20230328T160000
DTSTAMP:20260421T235734
CREATED:20230302T080204Z
LAST-MODIFIED:20230302T080204Z
UID:47702-1680019200-1680019200@rcbs.by
SUMMARY:Квасоўская сельская бібліятэка арганізуе гульню-віктарыну "Мы из мультфильмов и сказок\, угадай без подсказок"
DESCRIPTION:
URL:https://rcbs.by/event/%d0%ba%d0%b2%d0%b0%d1%81%d0%be%d1%9e%d1%81%d0%ba%d0%b0%d1%8f-%d1%81%d0%b5%d0%bb%d1%8c%d1%81%d0%ba%d0%b0%d1%8f-%d0%b1%d1%96%d0%b1%d0%bb%d1%96%d1%8f%d1%82%d1%8d%d0%ba%d0%b0-%d0%b0%d1%80%d0%b3%d0%b0-58/
LOCATION:бібліятэка
END:VEVENT
END:VCALENDAR