BEGIN:VCALENDAR
VERSION:2.0
PRODID:-//Інфармацыйна-бібліятэчны аддзел Гродзенскага раённага культурна-інфармацыйнага цэнтра - ECPv5.9.0//NONSGML v1.0//EN
CALSCALE:GREGORIAN
METHOD:PUBLISH
X-WR-CALNAME:Інфармацыйна-бібліятэчны аддзел Гродзенскага раённага культурна-інфармацыйнага цэнтра
X-ORIGINAL-URL:https://rcbs.by
X-WR-CALDESC:Events for Інфармацыйна-бібліятэчны аддзел Гродзенскага раённага культурна-інфармацыйнага цэнтра
BEGIN:VTIMEZONE
TZID:Europe/Moscow
BEGIN:STANDARD
TZOFFSETFROM:+0300
TZOFFSETTO:+0300
TZNAME:MSK
DTSTART:20210101T000000
END:STANDARD
END:VTIMEZONE
BEGIN:VEVENT
DTSTART;VALUE=DATE:20210117
DTEND;VALUE=DATE:20210118
DTSTAMP:20260423T054915
CREATED:20201231T063320Z
LAST-MODIFIED:20201231T063320Z
UID:16511-1610841600-1610927999@rcbs.by
SUMMARY:Жытамлянская сельская бібліятэка правядзе пасяджэнне літаратурнай гасцёўні “Как-то раз в крещенский вечерок…”
DESCRIPTION:
URL:https://rcbs.by/event/%d0%b6%d1%8b%d1%82%d0%b0%d0%bc%d0%bb%d1%8f%d0%bd%d1%81%d0%ba%d0%b0%d1%8f-%d1%81%d0%b5%d0%bb%d1%8c%d1%81%d0%ba%d0%b0%d1%8f-%d0%b1%d1%96%d0%b1%d0%bb%d1%96%d1%8f%d1%82%d1%8d%d0%ba%d0%b0-%d0%bf%d1%80-13/
LOCATION:бібліятэка
ATTACH;FMTTYPE=image/jpeg:https://rcbs.by/wp-content/uploads/2020/12/Без-названия-10.jpg
END:VEVENT
END:VCALENDAR