BEGIN:VCALENDAR
VERSION:2.0
PRODID:-//Інфармацыйна-бібліятэчны аддзел Гродзенскага раённага культурна-інфармацыйнага цэнтра - ECPv5.9.0//NONSGML v1.0//EN
CALSCALE:GREGORIAN
METHOD:PUBLISH
X-WR-CALNAME:Інфармацыйна-бібліятэчны аддзел Гродзенскага раённага культурна-інфармацыйнага цэнтра
X-ORIGINAL-URL:https://rcbs.by
X-WR-CALDESC:Events for Інфармацыйна-бібліятэчны аддзел Гродзенскага раённага культурна-інфармацыйнага цэнтра
BEGIN:VTIMEZONE
TZID:Europe/Minsk
BEGIN:STANDARD
TZOFFSETFROM:+0300
TZOFFSETTO:+0300
TZNAME:+03
DTSTART:20230101T000000
END:STANDARD
END:VTIMEZONE
BEGIN:VEVENT
DTSTART;TZID=Europe/Minsk:20230101T110000
DTEND;TZID=Europe/Minsk:20230115T110000
DTSTAMP:20260423T144446
CREATED:20221229T122722Z
LAST-MODIFIED:20221229T123220Z
UID:45477-1672570800-1673780400@rcbs.by
SUMMARY:Луцкаўлянская сельская бібліятэка – інфармацыйна-экалагічны цэнтр арганізуе выставу-настрой "Лес чудес"
DESCRIPTION:
URL:https://rcbs.by/event/%d0%b2%d1%8b%d1%81%d1%82%d0%b0%d0%b2%d0%b0-%d0%bd%d0%b0%d1%81%d1%82%d1%80%d0%be%d0%b9-%d0%bb%d0%b5%d1%81-%d1%87%d1%83%d0%b4%d0%b5%d1%81/
LOCATION:бібліятэка
END:VEVENT
END:VCALENDAR