BEGIN:VCALENDAR
VERSION:2.0
PRODID:-//Інфармацыйна-бібліятэчны аддзел Гродзенскага раённага культурна-інфармацыйнага цэнтра - ECPv5.9.0//NONSGML v1.0//EN
CALSCALE:GREGORIAN
METHOD:PUBLISH
X-WR-CALNAME:Інфармацыйна-бібліятэчны аддзел Гродзенскага раённага культурна-інфармацыйнага цэнтра
X-ORIGINAL-URL:https://rcbs.by
X-WR-CALDESC:Events for Інфармацыйна-бібліятэчны аддзел Гродзенскага раённага культурна-інфармацыйнага цэнтра
BEGIN:VTIMEZONE
TZID:Europe/Minsk
BEGIN:STANDARD
TZOFFSETFROM:+0300
TZOFFSETTO:+0300
TZNAME:+03
DTSTART:20220101T000000
END:STANDARD
END:VTIMEZONE
BEGIN:VEVENT
DTSTART;TZID=Europe/Minsk:20221229T153000
DTEND;TZID=Europe/Minsk:20221229T153000
DTSTAMP:20260423T200522
CREATED:20221207T121406Z
LAST-MODIFIED:20221207T121406Z
UID:45120-1672327800-1672327800@rcbs.by
SUMMARY:Верцялішкаўская сельская бібліятэка-інфармацыйна-краязнаўчы цэнтр арганізуе святочную праграмму для дзяцей "Когда часы 12 бьют!"
DESCRIPTION:
URL:https://rcbs.by/event/%d0%b2%d0%b5%d1%80%d1%86%d1%8f%d0%bb%d1%96%d1%88%d0%ba%d0%b0%d1%9e%d1%81%d0%ba%d0%b0%d1%8f-%d1%81%d0%b5%d0%bb%d1%8c%d1%81%d0%ba%d0%b0%d1%8f-%d0%b1%d1%96%d0%b1%d0%bb%d1%96%d1%8f%d1%82%d1%8d%d0%ba%d0-83/
LOCATION:ААТ «Агракамбінат Скідзяльскі» в. Дарашэвічы в. Саволеўка в. Жукевічы в. Баранава  в. Ракіцце
END:VEVENT
END:VCALENDAR