BEGIN:VCALENDAR
VERSION:2.0
PRODID:-//Інфармацыйна-бібліятэчны аддзел Гродзенскага раённага культурна-інфармацыйнага цэнтра - ECPv5.9.0//NONSGML v1.0//EN
CALSCALE:GREGORIAN
METHOD:PUBLISH
X-WR-CALNAME:Інфармацыйна-бібліятэчны аддзел Гродзенскага раённага культурна-інфармацыйнага цэнтра
X-ORIGINAL-URL:https://rcbs.by
X-WR-CALDESC:Events for Інфармацыйна-бібліятэчны аддзел Гродзенскага раённага культурна-інфармацыйнага цэнтра
BEGIN:VTIMEZONE
TZID:Europe/Moscow
BEGIN:STANDARD
TZOFFSETFROM:+0300
TZOFFSETTO:+0300
TZNAME:MSK
DTSTART:20210101T000000
END:STANDARD
END:VTIMEZONE
BEGIN:VEVENT
DTSTART;VALUE=DATE:20210124
DTEND;VALUE=DATE:20210131
DTSTAMP:20260423T030638
CREATED:20201229T054339Z
LAST-MODIFIED:20201229T054339Z
UID:16278-1611446400-1612051199@rcbs.by
SUMMARY:Адэльская сельская бібліятэка - цэнтр краязнаўства і турызму правядзе тэматычную выставу да 100-годдзя беларускага пісьменніка Івана Шамякіна “Трывожнае шчасце пісьменніка”
DESCRIPTION:
URL:https://rcbs.by/event/%d0%b0%d0%b4%d1%8d%d0%bb%d1%8c%d1%81%d0%ba%d0%b0%d1%8f-%d1%81%d0%b5%d0%bb%d1%8c%d1%81%d0%ba%d0%b0%d1%8f-%d0%b1%d1%96%d0%b1%d0%bb%d1%96%d1%8f%d1%82%d1%8d%d0%ba%d0%b0-%d1%86%d1%8d%d0%bd%d1%82%d1%80-17/
ATTACH;FMTTYPE=image/jpeg:https://rcbs.by/wp-content/uploads/2020/12/000027_30F46A882718009843257F480022BD45_724352.jpg
END:VEVENT
END:VCALENDAR