BEGIN:VCALENDAR
VERSION:2.0
PRODID:-//Інфармацыйна-бібліятэчны аддзел Гродзенскага раённага культурна-інфармацыйнага цэнтра - ECPv5.9.0//NONSGML v1.0//EN
CALSCALE:GREGORIAN
METHOD:PUBLISH
X-WR-CALNAME:Інфармацыйна-бібліятэчны аддзел Гродзенскага раённага культурна-інфармацыйнага цэнтра
X-ORIGINAL-URL:https://rcbs.by
X-WR-CALDESC:Events for Інфармацыйна-бібліятэчны аддзел Гродзенскага раённага культурна-інфармацыйнага цэнтра
BEGIN:VTIMEZONE
TZID:Europe/Minsk
BEGIN:STANDARD
TZOFFSETFROM:+0300
TZOFFSETTO:+0300
TZNAME:+03
DTSTART:20230101T000000
END:STANDARD
END:VTIMEZONE
BEGIN:VEVENT
DTSTART;TZID=Europe/Minsk:20230328T120000
DTEND;TZID=Europe/Minsk:20230328T120000
DTSTAMP:20260422T025054
CREATED:20230301T123000Z
LAST-MODIFIED:20230301T123000Z
UID:47654-1680004800-1680004800@rcbs.by
SUMMARY:Абухаўская сельская бібліятэка-інфармацыйна-прававы цэнтр арганізуе літаратурнае падарожжа "Необъятен и велик мир волшебных детских книг"
DESCRIPTION:
URL:https://rcbs.by/event/%d0%b0%d0%b1%d1%83%d1%85%d0%b0%d1%9e%d1%81%d0%ba%d0%b0%d1%8f-%d1%81%d0%b5%d0%bb%d1%8c%d1%81%d0%ba%d0%b0%d1%8f-%d0%b1%d1%96%d0%b1%d0%bb%d1%96%d1%8f%d1%82%d1%8d%d0%ba%d0%b0-%d1%96%d0%bd%d1%84%d0%b0-50/
LOCATION:бібліятэка
END:VEVENT
END:VCALENDAR